BEGIN:VCALENDAR
VERSION:2.0
CALSCALE:GREGORIAN
PRODID:-//Diputació de Barcelona//DibaCMS//EN
BEGIN:VEVENT
UID:14540
DTSTAMP:20260423T222428
DTSTART:20260608T100000
DTEND:20260608T130000
SUMMARY:Formació: Gestió financera automatitzada: FacturaScripts, Notion i IA
LOCATION:c. Josep Vilaseca, 23 08440 
METHOD:PUBLISH
X-WR-CALNAME:cardedeu@cardedeu.cat
X-WR-TIMEZONE:Europe/Madrid
DESCRIPTION:
URI:https://www.cardedeu.cat/actualitat/agenda/formacio-gestio-financera-automatitzada-facturascripts-notion-i-ia.html
CLASS:PUBLIC
END:VEVENT
END:VCALENDAR
