BEGIN:VCALENDAR
VERSION:2.0
CALSCALE:GREGORIAN
PRODID:-//Diputació de Barcelona//DibaCMS//EN
BEGIN:VEVENT
UID:14537
DTSTAMP:20260423T221626
DTSTART:20260511T100000
DTEND:20260511T120000
SUMMARY:Formació: Vídeo màrqueting express: reels i TikToks creats amb IA
LOCATION:c. Josep Vilaseca, 23 08440 
METHOD:PUBLISH
X-WR-CALNAME:cardedeu@cardedeu.cat
X-WR-TIMEZONE:Europe/Madrid
DESCRIPTION:
URI:https://www.cardedeu.cat/actualitat/agenda/formacio-video-marqueting-express-reels-i-tiktoks-creats-amb-ia.html
CLASS:PUBLIC
END:VEVENT
END:VCALENDAR
