BEGIN:VCALENDAR
VERSION:2.0
CALSCALE:GREGORIAN
PRODID:-//Diputació de Barcelona//DibaCMS//EN
BEGIN:VEVENT
UID:14536
DTSTAMP:20260423T223257
DTSTART:20260508T100000
DTEND:20260508T100000
SUMMARY:Formació: Impulsa el teu negoci - del 8 de maig al 5 de juny
LOCATION:c. Josep Vilaseca, 23 08440 
METHOD:PUBLISH
X-WR-CALNAME:cardedeu@cardedeu.cat
X-WR-TIMEZONE:Europe/Madrid
DESCRIPTION:
URI:https://www.cardedeu.cat/actualitat/agenda/formacio-impulsa-el-teu-negoci-del-8-de-maig-al-5-de-juny.html
CLASS:PUBLIC
END:VEVENT
END:VCALENDAR
