BEGIN:VCALENDAR
VERSION:2.0
CALSCALE:GREGORIAN
PRODID:-//Diputació de Barcelona//DibaCMS//EN
BEGIN:VEVENT
UID:14534
DTSTAMP:20260423T223806
DTSTART:20260427T100000
DTEND:20260427T130000
SUMMARY:Formació: Social selling i marca pesonal amb IA (LinkedIn)
LOCATION:c. Josep Vilaseca, 23 08440 
METHOD:PUBLISH
X-WR-CALNAME:cardedeu@cardedeu.cat
X-WR-TIMEZONE:Europe/Madrid
DESCRIPTION:
URI:https://www.cardedeu.cat/actualitat/agenda/formacio-social-selling-i-marca-pesonal-amb-ia-linkedin.html
CLASS:PUBLIC
END:VEVENT
END:VCALENDAR
