BEGIN:VCALENDAR
VERSION:2.0
CALSCALE:GREGORIAN
PRODID:-//Diputació de Barcelona//DibaCMS//EN
BEGIN:VEVENT
UID:14509
DTSTAMP:20260421T150051
DTSTART:20260423T200000
DTEND:20260426T190000
SUMMARY:Cinema: Incerta glòria
LOCATION:carrer de Lluís Llibre, 27 08440 Cardedeu
METHOD:PUBLISH
X-WR-CALNAME:cardedeu@cardedeu.cat
X-WR-TIMEZONE:Europe/Madrid
DESCRIPTION:
URI:https://www.cardedeu.cat/actualitat/agenda/cinema-incerta-gloria.html
CLASS:PUBLIC
END:VEVENT
END:VCALENDAR
