BEGIN:VCALENDAR
VERSION:2.0
CALSCALE:GREGORIAN
PRODID:-//Diputació de Barcelona//DibaCMS//EN
BEGIN:VEVENT
UID:13878
DTSTAMP:20260419T194958
DTSTART:20251214T180000
DTEND:20251214T192000
SUMMARY:POLS -Concert especial de Nadal – OC·CA i La Fresh
LOCATION:avinguda rei En Jaume, 118 08440 Cardedeu
METHOD:PUBLISH
X-WR-CALNAME:cardedeu@cardedeu.cat
X-WR-TIMEZONE:Europe/Madrid
DESCRIPTION:
URI:https://www.cardedeu.cat/actualitat/agenda/pols-concert-especial-de-nadal--occa-i-la-fresh.html
CLASS:PUBLIC
END:VEVENT
END:VCALENDAR
