BEGIN:VCALENDAR
VERSION:2.0
CALSCALE:GREGORIAN
PRODID:-//Diputació de Barcelona//DibaCMS//EN
BEGIN:VEVENT
UID:13332
DTSTAMP:20260419T201130
DTSTART:20250223T110000
DTEND:20250223T110000
SUMMARY:Ballada de Gitanes
LOCATION:Sortida cercavila Tèxtil Rase. Plaça Ramon Macip 
METHOD:PUBLISH
X-WR-CALNAME:cardedeu@cardedeu.cat
X-WR-TIMEZONE:Europe/Madrid
DESCRIPTION:
URI:https://www.cardedeu.cat/actualitat/agenda/13332-ballada-de-gitanes.html
CLASS:PUBLIC
END:VEVENT
END:VCALENDAR
