BEGIN:VCALENDAR
VERSION:2.0
CALSCALE:GREGORIAN
PRODID:-//Diputació de Barcelona//DibaCMS//EN
BEGIN:VEVENT
UID:11469
DTSTAMP:20260419T151907
DTSTART:20230121T100000
DTEND:20230121T140000
SUMMARY:Inauguració de la Tèxtil Rase - Fàbrica de Cultura de Cardedeu
LOCATION:
METHOD:PUBLISH
X-WR-CALNAME:cardedeu@cardedeu.cat
X-WR-TIMEZONE:Europe/Madrid
DESCRIPTION:
URI:https://www.cardedeu.cat/actualitat/agenda/inauguracio-de-la-textil-rase-fabrica-de-cultura-de-cardedeu.html
CLASS:PUBLIC
END:VEVENT
END:VCALENDAR
