BEGIN:VCALENDAR
VERSION:2.0
CALSCALE:GREGORIAN
PRODID:-//Diputació de Barcelona//DibaCMS//EN
BEGIN:VEVENT
UID:11467
DTSTAMP:20260419T171414
DTSTART:20230124T133000
DTEND:20230124T153000
SUMMARY:Xerrada "Garanties en la venda de béns de consum"
LOCATION:CSETC, Sala de formació
c. Josep Vilaseca, 23 
METHOD:PUBLISH
X-WR-CALNAME:cardedeu@cardedeu.cat
X-WR-TIMEZONE:Europe/Madrid
DESCRIPTION:
URI:https://www.cardedeu.cat/actualitat/agenda/xerrada-garanties-en-la-venda-de-bens-de-consum.html
CLASS:PUBLIC
END:VEVENT
END:VCALENDAR
