BEGIN:VCALENDAR
VERSION:2.0
CALSCALE:GREGORIAN
PRODID:-//Diputació de Barcelona//DibaCMS//EN
BEGIN:VEVENT
UID:10831
DTSTAMP:20260421T133854
DTSTART:20220513T200000
DTEND:20220515T190000
SUMMARY:Compartimiento núm. 6
LOCATION:carrer de Lluís Llibre, 27 08440 Cardedeu
METHOD:PUBLISH
X-WR-CALNAME:cardedeu@cardedeu.cat
X-WR-TIMEZONE:Europe/Madrid
DESCRIPTION:
URI:https://www.cardedeu.cat/actualitat/agenda/compartimiento-num-6.html
CLASS:PUBLIC
END:VEVENT
END:VCALENDAR
