BEGIN:VCALENDAR
VERSION:2.0
CALSCALE:GREGORIAN
PRODID:-//Diputació de Barcelona//DibaCMS//EN
BEGIN:VEVENT
UID:10033
DTSTAMP:20260423T115816
DTSTART:20210620T110000
DTEND:20210620T130000
SUMMARY:Recuperart-19 - Visita comentada al jardí
LOCATION:carrer del Doctor Daurella, 1 08440 Cardedeu
METHOD:PUBLISH
X-WR-CALNAME:cardedeu@cardedeu.cat
X-WR-TIMEZONE:Europe/Madrid
DESCRIPTION:
URI:https://www.cardedeu.cat/actualitat/agenda/10033-recuperart-19-visita-comentada-al-jardi.html
CLASS:PUBLIC
END:VEVENT
END:VCALENDAR
